BEGIN:VCALENDAR
VERSION:2.0
PRODID:-//Albert-Einstein-Realschule - ECPv6.15.20//NONSGML v1.0//EN
CALSCALE:GREGORIAN
METHOD:PUBLISH
X-WR-CALNAME:Albert-Einstein-Realschule
X-ORIGINAL-URL:https://aes-essen.de
X-WR-CALDESC:Veranstaltungen für Albert-Einstein-Realschule
REFRESH-INTERVAL;VALUE=DURATION:PT1H
X-Robots-Tag:noindex
X-PUBLISHED-TTL:PT1H
BEGIN:VTIMEZONE
TZID:Europe/Helsinki
BEGIN:DAYLIGHT
TZOFFSETFROM:+0200
TZOFFSETTO:+0300
TZNAME:EEST
DTSTART:20250330T010000
END:DAYLIGHT
BEGIN:STANDARD
TZOFFSETFROM:+0300
TZOFFSETTO:+0200
TZNAME:EET
DTSTART:20251026T010000
END:STANDARD
BEGIN:DAYLIGHT
TZOFFSETFROM:+0200
TZOFFSETTO:+0300
TZNAME:EEST
DTSTART:20260329T010000
END:DAYLIGHT
BEGIN:STANDARD
TZOFFSETFROM:+0300
TZOFFSETTO:+0200
TZNAME:EET
DTSTART:20261025T010000
END:STANDARD
BEGIN:DAYLIGHT
TZOFFSETFROM:+0200
TZOFFSETTO:+0300
TZNAME:EEST
DTSTART:20270328T010000
END:DAYLIGHT
BEGIN:STANDARD
TZOFFSETFROM:+0300
TZOFFSETTO:+0200
TZNAME:EET
DTSTART:20271031T010000
END:STANDARD
END:VTIMEZONE
BEGIN:VEVENT
DTSTART;TZID=Europe/Helsinki:20260122T081500
DTEND;TZID=Europe/Helsinki:20260122T133000
DTSTAMP:20260422T043541
CREATED:20250827T170156Z
LAST-MODIFIED:20260118T134555Z
UID:9136-1769069700-1769088600@aes-essen.de
SUMMARY:8c\,d Suchtprävention
DESCRIPTION:Klasse 8c:  1. bis 2.Stunde \nKlasse 8d:  3. bis 4.Stunde
URL:https://aes-essen.de/event/8cd-suchtpraevention/
END:VEVENT
END:VCALENDAR