BEGIN:VCALENDAR
VERSION:2.0
PRODID:-//Albert-Einstein-Realschule - ECPv6.15.20//NONSGML v1.0//EN
CALSCALE:GREGORIAN
METHOD:PUBLISH
X-WR-CALNAME:Albert-Einstein-Realschule
X-ORIGINAL-URL:https://aes-essen.de
X-WR-CALDESC:Veranstaltungen für Albert-Einstein-Realschule
REFRESH-INTERVAL;VALUE=DURATION:PT1H
X-Robots-Tag:noindex
X-PUBLISHED-TTL:PT1H
BEGIN:VTIMEZONE
TZID:Europe/Helsinki
BEGIN:DAYLIGHT
TZOFFSETFROM:+0200
TZOFFSETTO:+0300
TZNAME:EEST
DTSTART:20250330T010000
END:DAYLIGHT
BEGIN:STANDARD
TZOFFSETFROM:+0300
TZOFFSETTO:+0200
TZNAME:EET
DTSTART:20251026T010000
END:STANDARD
BEGIN:DAYLIGHT
TZOFFSETFROM:+0200
TZOFFSETTO:+0300
TZNAME:EEST
DTSTART:20260329T010000
END:DAYLIGHT
BEGIN:STANDARD
TZOFFSETFROM:+0300
TZOFFSETTO:+0200
TZNAME:EET
DTSTART:20261025T010000
END:STANDARD
BEGIN:DAYLIGHT
TZOFFSETFROM:+0200
TZOFFSETTO:+0300
TZNAME:EEST
DTSTART:20270328T010000
END:DAYLIGHT
BEGIN:STANDARD
TZOFFSETFROM:+0300
TZOFFSETTO:+0200
TZNAME:EET
DTSTART:20271031T010000
END:STANDARD
END:VTIMEZONE
BEGIN:VEVENT
DTSTART;TZID=Europe/Helsinki:20260606T100000
DTEND;TZID=Europe/Helsinki:20260606T113000
DTSTAMP:20260422T010323
CREATED:20251012T101203Z
LAST-MODIFIED:20251012T101203Z
UID:9362-1780740000-1780745400@aes-essen.de
SUMMARY:Nachschreibtermin Klassenarbeiten
DESCRIPTION:Versäumte Klassenarbeiten werden ab 10 Uhr im Pavillon (NB03 und NB04) nachgeschrieben.
URL:https://aes-essen.de/event/nachschreibtermin-klassenarbeiten-7/
END:VEVENT
END:VCALENDAR