BEGIN:VCALENDAR
VERSION:2.0
PRODID:-//Albert-Einstein-Realschule - ECPv6.15.20//NONSGML v1.0//EN
CALSCALE:GREGORIAN
METHOD:PUBLISH
X-WR-CALNAME:Albert-Einstein-Realschule
X-ORIGINAL-URL:https://aes-essen.de
X-WR-CALDESC:Veranstaltungen für Albert-Einstein-Realschule
REFRESH-INTERVAL;VALUE=DURATION:PT1H
X-Robots-Tag:noindex
X-PUBLISHED-TTL:PT1H
BEGIN:VTIMEZONE
TZID:Europe/Helsinki
BEGIN:DAYLIGHT
TZOFFSETFROM:+0200
TZOFFSETTO:+0300
TZNAME:EEST
DTSTART:20250330T010000
END:DAYLIGHT
BEGIN:STANDARD
TZOFFSETFROM:+0300
TZOFFSETTO:+0200
TZNAME:EET
DTSTART:20251026T010000
END:STANDARD
BEGIN:DAYLIGHT
TZOFFSETFROM:+0200
TZOFFSETTO:+0300
TZNAME:EEST
DTSTART:20260329T010000
END:DAYLIGHT
BEGIN:STANDARD
TZOFFSETFROM:+0300
TZOFFSETTO:+0200
TZNAME:EET
DTSTART:20261025T010000
END:STANDARD
BEGIN:DAYLIGHT
TZOFFSETFROM:+0200
TZOFFSETTO:+0300
TZNAME:EEST
DTSTART:20270328T010000
END:DAYLIGHT
BEGIN:STANDARD
TZOFFSETFROM:+0300
TZOFFSETTO:+0200
TZNAME:EET
DTSTART:20271031T010000
END:STANDARD
END:VTIMEZONE
BEGIN:VEVENT
DTSTART;VALUE=DATE:20260202
DTEND;VALUE=DATE:20260203
DTSTAMP:20260421T215153
CREATED:20251012T100530Z
LAST-MODIFIED:20251012T110840Z
UID:9347-1769990400-1770076799@aes-essen.de
SUMMARY:Studientag
DESCRIPTION:Die Schülerinnen und Schüler erhalten Aufgaben über Logineo.
URL:https://aes-essen.de/event/studientag-2/
END:VEVENT
BEGIN:VEVENT
DTSTART;VALUE=DATE:20260206
DTEND;VALUE=DATE:20260214
DTSTAMP:20260421T215153
CREATED:20250827T170640Z
LAST-MODIFIED:20250827T170640Z
UID:9142-1770336000-1771027199@aes-essen.de
SUMMARY:Jg.8 Skifreizeit
DESCRIPTION:
URL:https://aes-essen.de/event/jg-8-skifreizeit/
END:VEVENT
BEGIN:VEVENT
DTSTART;TZID=Europe/Helsinki:20260206T081500
DTEND;TZID=Europe/Helsinki:20260206T105000
DTSTAMP:20260421T215153
CREATED:20250827T170420Z
LAST-MODIFIED:20250827T170420Z
UID:9138-1770365700-1770375000@aes-essen.de
SUMMARY:Bestenehrung und Zeugnisausgabe
DESCRIPTION:Wir ehren besonders erfolgreiche Schülerinnen und Schüler in der Aula. Zeugnisausgabe erfolgt am Ende der 3.Stunde\, danach ist Unterrichtsschluss.
URL:https://aes-essen.de/event/bestenehrung-und-zeugnisausgabe/
END:VEVENT
BEGIN:VEVENT
DTSTART;VALUE=DATE:20260209
DTEND;VALUE=DATE:20260211
DTSTAMP:20260421T215153
CREATED:20250827T170544Z
LAST-MODIFIED:20260108T132027Z
UID:9140-1770595200-1770767999@aes-essen.de
SUMMARY:Anmeldetermine neue 5er
DESCRIPTION:Unsere Anmeldetermine: \n        Montag\,   09.02.2026 von 9-16 Uhr\n        Dienstag\, 10.02.2026 von 9-12 Uhr\n\nFür die zwei Anmeldetage ist eine Voranmeldung über die Telefonnummer unserer Schule nötig.\nDiese Anmeldung ist ab Januar 2026 unter (0201) 8560130 möglich.
URL:https://aes-essen.de/event/anmeldetermine-neue-5er/
END:VEVENT
BEGIN:VEVENT
DTSTART;VALUE=DATE:20260209
DTEND;VALUE=DATE:20260228
DTSTAMP:20260421T215153
CREATED:20250827T170730Z
LAST-MODIFIED:20250827T170730Z
UID:9144-1770595200-1772236799@aes-essen.de
SUMMARY:Jg.9 Schülerbetriebspraktikum
DESCRIPTION:
URL:https://aes-essen.de/event/jg-9-schuelerbetriebspraktikum/
END:VEVENT
BEGIN:VEVENT
DTSTART;TZID=Europe/Helsinki:20260210T100000
DTEND;TZID=Europe/Helsinki:20260210T113000
DTSTAMP:20260421T215153
CREATED:20251012T100741Z
LAST-MODIFIED:20251012T100741Z
UID:9349-1770717600-1770723000@aes-essen.de
SUMMARY:Jg.10 Crash-Kurs NRW
DESCRIPTION:Eine Veranstaltung zum Bereich Verkehrserziehung für alle 10er in der Aula.
URL:https://aes-essen.de/event/jg-10-crash-kurs-nrw/
END:VEVENT
BEGIN:VEVENT
DTSTART;VALUE=DATE:20260216
DTEND;VALUE=DATE:20260217
DTSTAMP:20260421T215153
CREATED:20251012T100817Z
LAST-MODIFIED:20251012T100931Z
UID:9351-1771200000-1771286399@aes-essen.de
SUMMARY:unterrichtsfrei - Rosenmontag
DESCRIPTION:1.beweglicher Ferientag
URL:https://aes-essen.de/event/unterrichtsfrei-rosenmontag/
END:VEVENT
BEGIN:VEVENT
DTSTART;VALUE=DATE:20260217
DTEND;VALUE=DATE:20260218
DTSTAMP:20260421T215153
CREATED:20251012T100907Z
LAST-MODIFIED:20251012T100907Z
UID:9353-1771286400-1771372799@aes-essen.de
SUMMARY:unterrichtsfrei - Veilchendienstag
DESCRIPTION:2.beweglicher Ferientag
URL:https://aes-essen.de/event/unterrichtsfrei-veilchendienstag/
END:VEVENT
BEGIN:VEVENT
DTSTART;TZID=Europe/Helsinki:20260221T100000
DTEND;TZID=Europe/Helsinki:20260221T113000
DTSTAMP:20260421T215153
CREATED:20251012T101016Z
LAST-MODIFIED:20251012T101016Z
UID:9356-1771668000-1771673400@aes-essen.de
SUMMARY:Nachschreibtermin Klassenarbeiten
DESCRIPTION:Versäumte Klassenarbeiten werden ab 10 Uhr im Pavillon (NB03 und NB04) nachgeschrieben.
URL:https://aes-essen.de/event/nachschreibtermin-klassenarbeiten/
END:VEVENT
BEGIN:VEVENT
DTSTART;TZID=Europe/Helsinki:20260224T150000
DTEND;TZID=Europe/Helsinki:20260224T180000
DTSTAMP:20260421T215153
CREATED:20251012T101421Z
LAST-MODIFIED:20251012T101421Z
UID:9364-1771945200-1771956000@aes-essen.de
SUMMARY:Elternsprechtag (zu den Lern-und Förderempfehlungen)
DESCRIPTION:Falls Ihr Kind Minderleistungen auf dem Zeugnis hatte\, vereinbaren Sie bitte über den Timer einen Termin mit dem Fachlehrer.
URL:https://aes-essen.de/event/elternsprechtag-zu-den-lern-und-foerderempfehlungen/
END:VEVENT
END:VCALENDAR