BEGIN:VCALENDAR
VERSION:2.0
PRODID:-//Albert-Einstein-Realschule - ECPv6.15.20//NONSGML v1.0//EN
CALSCALE:GREGORIAN
METHOD:PUBLISH
X-ORIGINAL-URL:https://aes-essen.de
X-WR-CALDESC:Veranstaltungen für Albert-Einstein-Realschule
REFRESH-INTERVAL;VALUE=DURATION:PT1H
X-Robots-Tag:noindex
X-PUBLISHED-TTL:PT1H
BEGIN:VTIMEZONE
TZID:Europe/Helsinki
BEGIN:DAYLIGHT
TZOFFSETFROM:+0200
TZOFFSETTO:+0300
TZNAME:EEST
DTSTART:20250330T010000
END:DAYLIGHT
BEGIN:STANDARD
TZOFFSETFROM:+0300
TZOFFSETTO:+0200
TZNAME:EET
DTSTART:20251026T010000
END:STANDARD
BEGIN:DAYLIGHT
TZOFFSETFROM:+0200
TZOFFSETTO:+0300
TZNAME:EEST
DTSTART:20260329T010000
END:DAYLIGHT
BEGIN:STANDARD
TZOFFSETFROM:+0300
TZOFFSETTO:+0200
TZNAME:EET
DTSTART:20261025T010000
END:STANDARD
BEGIN:DAYLIGHT
TZOFFSETFROM:+0200
TZOFFSETTO:+0300
TZNAME:EEST
DTSTART:20270328T010000
END:DAYLIGHT
BEGIN:STANDARD
TZOFFSETFROM:+0300
TZOFFSETTO:+0200
TZNAME:EET
DTSTART:20271031T010000
END:STANDARD
END:VTIMEZONE
BEGIN:VEVENT
DTSTART;VALUE=DATE:20260501
DTEND;VALUE=DATE:20260502
DTSTAMP:20260421T200508
CREATED:20251012T103316Z
LAST-MODIFIED:20251012T103316Z
UID:9392-1777593600-1777679999@aes-essen.de
SUMMARY:unterrichtsfrei - Feiertag
DESCRIPTION:
URL:https://aes-essen.de/event/unterrichtsfrei-feiertag/
END:VEVENT
BEGIN:VEVENT
DTSTART;TZID=Europe/Helsinki:20260509T100000
DTEND;TZID=Europe/Helsinki:20260509T113000
DTSTAMP:20260421T200508
CREATED:20251012T101125Z
LAST-MODIFIED:20251012T101125Z
UID:9358-1778320800-1778326200@aes-essen.de
SUMMARY:Nachschreibtermin Klassenarbeiten
DESCRIPTION:Versäumte Klassenarbeiten werden ab 10 Uhr im Pavillon (NB03 und NB04) nachgeschrieben.
URL:https://aes-essen.de/event/nachschreibtermin-klassenarbeiten-6/
END:VEVENT
BEGIN:VEVENT
DTSTART;VALUE=DATE:20260513
DTEND;VALUE=DATE:20260514
DTSTAMP:20260421T200508
CREATED:20251012T103539Z
LAST-MODIFIED:20251012T103607Z
UID:9396-1778630400-1778716799@aes-essen.de
SUMMARY:Jg.10: ZP Deutsch
DESCRIPTION:Zeitplan wird den Schülerinnen und Schülern bekannt gegeben.
URL:https://aes-essen.de/event/jg-10-zp-deutsch/
END:VEVENT
BEGIN:VEVENT
DTSTART;VALUE=DATE:20260514
DTEND;VALUE=DATE:20260515
DTSTAMP:20260421T200508
CREATED:20251012T103751Z
LAST-MODIFIED:20251012T103751Z
UID:9403-1778716800-1778803199@aes-essen.de
SUMMARY:unterrichtsfrei - Christi Himmelfahrt
DESCRIPTION:
URL:https://aes-essen.de/event/unterrichtsfrei-christi-himmelfahrt/
END:VEVENT
BEGIN:VEVENT
DTSTART;VALUE=DATE:20260515
DTEND;VALUE=DATE:20260516
DTSTAMP:20260421T200508
CREATED:20251012T103832Z
LAST-MODIFIED:20251012T103832Z
UID:9405-1778803200-1778889599@aes-essen.de
SUMMARY:unterrichtsfrei
DESCRIPTION:3.beweglicher Ferientag
URL:https://aes-essen.de/event/unterrichtsfrei/
END:VEVENT
BEGIN:VEVENT
DTSTART;VALUE=DATE:20260519
DTEND;VALUE=DATE:20260520
DTSTAMP:20260421T200508
CREATED:20251012T103643Z
LAST-MODIFIED:20251012T103643Z
UID:9399-1779148800-1779235199@aes-essen.de
SUMMARY:Jg.10: ZP Englisch
DESCRIPTION:Zeitplan wird den Schülerinnen und Schülern bekannt gegeben.
URL:https://aes-essen.de/event/jg-10-zp-englisch/
END:VEVENT
BEGIN:VEVENT
DTSTART;TZID=Europe/Helsinki:20260519T190000
DTEND;TZID=Europe/Helsinki:20260519T203000
DTSTAMP:20260421T200508
CREATED:20251012T104020Z
LAST-MODIFIED:20251012T104020Z
UID:9407-1779217200-1779222600@aes-essen.de
SUMMARY:Jg.6: Elternabend zur Kurswahl
DESCRIPTION:In der Aula stellen sich die WPI-Kurse vor.
URL:https://aes-essen.de/event/jg-6-elternabend-zur-kurswahl/
END:VEVENT
BEGIN:VEVENT
DTSTART;TZID=Europe/Helsinki:20260521T090000
DTEND;TZID=Europe/Helsinki:20260521T120000
DTSTAMP:20260421T200508
CREATED:20250901T132910Z
LAST-MODIFIED:20250903T113041Z
UID:9178-1779354000-1779364800@aes-essen.de
SUMMARY:Schulpsychologische Sprechstunde der Schulberatungsstelle
DESCRIPTION:Dieses offene\, niederschwellige und anonyme Beratungsangebot findet mehrmals im Halbjahr\, zwischen 9.00 Uhr und 12:00 Uhr\, im Raum A24 statt. \nEingeladen sind Lehrkräfte\, Schüler und Erziehungsberechtigte\, die sich Unterstützung in Fragen rund um das Thema Schule wünschen. \n  \nBei Interesse bitten wir um eine Anmeldung unter:  \nMail:                    Anthea.Kuritz-Kaiser∂schulen.essen.de \nTelefon:              0201 8840135 \nAußerhalb der schulischen Sprechstundenzeiten ist unser Sekretariat täglich von 8:30 bis 14:00h telefonisch für Informationen zur regulären Anmeldung von Beratungsanfragen erreichbar. Tel 0201 8840131
URL:https://aes-essen.de/event/schulpsychologische-sprechstunde-der-schulberatungsstelle-5/
END:VEVENT
BEGIN:VEVENT
DTSTART;VALUE=DATE:20260525
DTEND;VALUE=DATE:20260527
DTSTAMP:20260421T200508
CREATED:20251012T104152Z
LAST-MODIFIED:20251012T104152Z
UID:9409-1779667200-1779839999@aes-essen.de
SUMMARY:Pfingstferien
DESCRIPTION:
URL:https://aes-essen.de/event/pfingstferien/
END:VEVENT
BEGIN:VEVENT
DTSTART;VALUE=DATE:20260528
DTEND;VALUE=DATE:20260529
DTSTAMP:20260421T200508
CREATED:20251012T103708Z
LAST-MODIFIED:20251012T103708Z
UID:9400-1779926400-1780012799@aes-essen.de
SUMMARY:Jg.10: ZP Mathematik
DESCRIPTION:Zeitplan wird den Schülerinnen und Schülern bekannt gegeben.
URL:https://aes-essen.de/event/jg-10-zp-mathematik/
END:VEVENT
BEGIN:VEVENT
DTSTART;VALUE=DATE:20260529
DTEND;VALUE=DATE:20260530
DTSTAMP:20260421T200508
CREATED:20251012T104310Z
LAST-MODIFIED:20251012T104310Z
UID:9411-1780012800-1780099199@aes-essen.de
SUMMARY:Jg.6: Rückgabe der Wahlzettel
DESCRIPTION:Differenzierung / WPI-Wahl
URL:https://aes-essen.de/event/jg-6-rueckgabe-der-wahlzettel/
END:VEVENT
END:VCALENDAR