BEGIN:VCALENDAR
VERSION:2.0
PRODID:-//Albert-Einstein-Realschule - ECPv6.15.20//NONSGML v1.0//EN
CALSCALE:GREGORIAN
METHOD:PUBLISH
X-ORIGINAL-URL:https://aes-essen.de
X-WR-CALDESC:Veranstaltungen für Albert-Einstein-Realschule
REFRESH-INTERVAL;VALUE=DURATION:PT1H
X-Robots-Tag:noindex
X-PUBLISHED-TTL:PT1H
BEGIN:VTIMEZONE
TZID:Europe/Helsinki
BEGIN:DAYLIGHT
TZOFFSETFROM:+0200
TZOFFSETTO:+0300
TZNAME:EEST
DTSTART:20250330T010000
END:DAYLIGHT
BEGIN:STANDARD
TZOFFSETFROM:+0300
TZOFFSETTO:+0200
TZNAME:EET
DTSTART:20251026T010000
END:STANDARD
BEGIN:DAYLIGHT
TZOFFSETFROM:+0200
TZOFFSETTO:+0300
TZNAME:EEST
DTSTART:20260329T010000
END:DAYLIGHT
BEGIN:STANDARD
TZOFFSETFROM:+0300
TZOFFSETTO:+0200
TZNAME:EET
DTSTART:20261025T010000
END:STANDARD
BEGIN:DAYLIGHT
TZOFFSETFROM:+0200
TZOFFSETTO:+0300
TZNAME:EEST
DTSTART:20270328T010000
END:DAYLIGHT
BEGIN:STANDARD
TZOFFSETFROM:+0300
TZOFFSETTO:+0200
TZNAME:EET
DTSTART:20271031T010000
END:STANDARD
END:VTIMEZONE
BEGIN:VEVENT
DTSTART;VALUE=DATE:20260602
DTEND;VALUE=DATE:20260603
DTSTAMP:20260421T233727
CREATED:20251012T104429Z
LAST-MODIFIED:20251012T104429Z
UID:9413-1780358400-1780444799@aes-essen.de
SUMMARY:Jg.10: Nachschreibtermin ZP Deutsch
DESCRIPTION:Zeitplan wird den Schülerinnen und Schülern bekannt gegeben.
URL:https://aes-essen.de/event/jg-10-nachschreibtermin-zp-deutsch/
END:VEVENT
BEGIN:VEVENT
DTSTART;VALUE=DATE:20260603
DTEND;VALUE=DATE:20260604
DTSTAMP:20260421T233727
CREATED:20251012T104457Z
LAST-MODIFIED:20251012T104457Z
UID:9414-1780444800-1780531199@aes-essen.de
SUMMARY:Jg.10: Nachschreibtermin ZP Englisch
DESCRIPTION:Zeitplan wird den Schülerinnen und Schülern bekannt gegeben.
URL:https://aes-essen.de/event/jg-10-nachschreibtermin-zp-englisch/
END:VEVENT
BEGIN:VEVENT
DTSTART;VALUE=DATE:20260604
DTEND;VALUE=DATE:20260605
DTSTAMP:20260421T233727
CREATED:20251012T104606Z
LAST-MODIFIED:20251012T104606Z
UID:9419-1780531200-1780617599@aes-essen.de
SUMMARY:unterrichtsfrei - Fronleichnam
DESCRIPTION:
URL:https://aes-essen.de/event/unterrichtsfrei-fronleichnam/
END:VEVENT
BEGIN:VEVENT
DTSTART;TZID=Europe/Helsinki:20260606T100000
DTEND;TZID=Europe/Helsinki:20260606T113000
DTSTAMP:20260421T233727
CREATED:20251012T101203Z
LAST-MODIFIED:20251012T101203Z
UID:9362-1780740000-1780745400@aes-essen.de
SUMMARY:Nachschreibtermin Klassenarbeiten
DESCRIPTION:Versäumte Klassenarbeiten werden ab 10 Uhr im Pavillon (NB03 und NB04) nachgeschrieben.
URL:https://aes-essen.de/event/nachschreibtermin-klassenarbeiten-7/
END:VEVENT
BEGIN:VEVENT
DTSTART;VALUE=DATE:20260609
DTEND;VALUE=DATE:20260610
DTSTAMP:20260421T233727
CREATED:20251012T104531Z
LAST-MODIFIED:20251012T104531Z
UID:9415-1780963200-1781049599@aes-essen.de
SUMMARY:Jg.10: Nachschreibtermin ZP Mathematik
DESCRIPTION:Zeitplan wird den Schülerinnen und Schülern bekannt gegeben.
URL:https://aes-essen.de/event/jg-10-nachschreibtermin-zp-mathematik/
END:VEVENT
BEGIN:VEVENT
DTSTART;TZID=Europe/Helsinki:20260616T081500
DTEND;TZID=Europe/Helsinki:20260616T090000
DTSTAMP:20260421T233727
CREATED:20251012T104722Z
LAST-MODIFIED:20251012T104722Z
UID:9421-1781597700-1781600400@aes-essen.de
SUMMARY:Jg.10: Bekanntgabe der Vor- und Prüfungsnoten
DESCRIPTION:
URL:https://aes-essen.de/event/jg-10-bekanntgabe-der-vor-und-pruefungsnoten/
END:VEVENT
BEGIN:VEVENT
DTSTART;VALUE=DATE:20260624
DTEND;VALUE=DATE:20260625
DTSTAMP:20260421T233727
CREATED:20251012T104844Z
LAST-MODIFIED:20251012T104844Z
UID:9423-1782259200-1782345599@aes-essen.de
SUMMARY:Jg.10: mündliche Prüfungen
DESCRIPTION:nur bei starker Notenabweichung
URL:https://aes-essen.de/event/jg-10-muendliche-pruefungen/
END:VEVENT
END:VCALENDAR